BEGIN:VCALENDAR
VERSION:2.0
PRODID:-//SHC-Meltewitz Offroad Team e.V.  im ADAC - ECPv6.15.20//NONSGML v1.0//EN
CALSCALE:GREGORIAN
METHOD:PUBLISH
X-ORIGINAL-URL:https://shc-meltewitz.de
X-WR-CALDESC:Veranstaltungen für SHC-Meltewitz Offroad Team e.V.  im ADAC
REFRESH-INTERVAL;VALUE=DURATION:PT1H
X-Robots-Tag:noindex
X-PUBLISHED-TTL:PT1H
BEGIN:VTIMEZONE
TZID:UTC
BEGIN:STANDARD
TZOFFSETFROM:+0000
TZOFFSETTO:+0000
TZNAME:UTC
DTSTART:20250101T000000
END:STANDARD
END:VTIMEZONE
BEGIN:VEVENT
DTSTART;VALUE=DATE:20260314
DTEND;VALUE=DATE:20260315
DTSTAMP:20260424T195916
CREATED:20260304T111021Z
LAST-MODIFIED:20260304T111021Z
UID:253-1773446400-1773532799@shc-meltewitz.de
SUMMARY:Umwelttag der Vereine
DESCRIPTION:
URL:https://shc-meltewitz.de/event/umwelttag-der-vereine/
CATEGORIES:Verein
END:VEVENT
END:VCALENDAR