BEGIN:VCALENDAR
VERSION:2.0
PRODID:-//SHC-Meltewitz Offroad Team e.V.  im ADAC - ECPv6.15.20//NONSGML v1.0//EN
CALSCALE:GREGORIAN
METHOD:PUBLISH
X-WR-CALNAME:SHC-Meltewitz Offroad Team e.V.  im ADAC
X-ORIGINAL-URL:https://shc-meltewitz.de
X-WR-CALDESC:Veranstaltungen für SHC-Meltewitz Offroad Team e.V.  im ADAC
REFRESH-INTERVAL;VALUE=DURATION:PT1H
X-Robots-Tag:noindex
X-PUBLISHED-TTL:PT1H
BEGIN:VTIMEZONE
TZID:UTC
BEGIN:STANDARD
TZOFFSETFROM:+0000
TZOFFSETTO:+0000
TZNAME:UTC
DTSTART:20250101T000000
END:STANDARD
END:VTIMEZONE
BEGIN:VEVENT
DTSTART;VALUE=DATE:20260322
DTEND;VALUE=DATE:20260323
DTSTAMP:20260425T235359
CREATED:20260304T111525Z
LAST-MODIFIED:20260317T195613Z
UID:255-1774137600-1774223999@shc-meltewitz.de
SUMMARY:Deutsche Enduromeisterschaft\,  Rund um Dahlen\, (Endurotest Meltewitz)
DESCRIPTION:
URL:https://shc-meltewitz.de/event/deutsche-enduromeisterschaft-rund-um-dahlen-endurotest-meltewitz/
LOCATION:Tor zum SHC Gelände\, 9V8P+Q94 Lossatal\, Lossatal OT Meltewitz\, 04808\, Germany
CATEGORIES:Enduro
ATTACH;FMTTYPE=image/avif:https://shc-meltewitz.de/wp-content/uploads/2026/03/Dahlen_2026.avif
END:VEVENT
BEGIN:VEVENT
DTSTART;VALUE=DATE:20260314
DTEND;VALUE=DATE:20260315
DTSTAMP:20260425T235359
CREATED:20260304T111021Z
LAST-MODIFIED:20260304T111021Z
UID:253-1773446400-1773532799@shc-meltewitz.de
SUMMARY:Umwelttag der Vereine
DESCRIPTION:
URL:https://shc-meltewitz.de/event/umwelttag-der-vereine/
CATEGORIES:Verein
END:VEVENT
BEGIN:VEVENT
DTSTART;TZID=UTC:20260306T193000
DTEND;TZID=UTC:20260306T193000
DTSTAMP:20260425T235359
CREATED:20260304T110951Z
LAST-MODIFIED:20260304T110951Z
UID:250-1772825400-1772825400@shc-meltewitz.de
SUMMARY:Jahreshauptversammlung
DESCRIPTION:
URL:https://shc-meltewitz.de/event/jahreshauptversammlung/
LOCATION:Meltewitz
CATEGORIES:Verein
END:VEVENT
END:VCALENDAR