BEGIN:VCALENDAR
VERSION:2.0
PRODID:-//SHC-Meltewitz Offroad Team e.V.  im ADAC - ECPv6.15.20//NONSGML v1.0//EN
CALSCALE:GREGORIAN
METHOD:PUBLISH
X-ORIGINAL-URL:https://shc-meltewitz.de
X-WR-CALDESC:Veranstaltungen für SHC-Meltewitz Offroad Team e.V.  im ADAC
REFRESH-INTERVAL;VALUE=DURATION:PT1H
X-Robots-Tag:noindex
X-PUBLISHED-TTL:PT1H
BEGIN:VTIMEZONE
TZID:UTC
BEGIN:STANDARD
TZOFFSETFROM:+0000
TZOFFSETTO:+0000
TZNAME:UTC
DTSTART:20250101T000000
END:STANDARD
END:VTIMEZONE
BEGIN:VEVENT
DTSTART;VALUE=DATE:20260509
DTEND;VALUE=DATE:20260511
DTSTAMP:20260425T221446
CREATED:20260304T111615Z
LAST-MODIFIED:20260415T100343Z
UID:259-1778284800-1778457599@shc-meltewitz.de
SUMMARY:Deutsche Enduromeisterschaft\,  2. ADAC Sprintenduro Meltewitz
DESCRIPTION:
URL:https://shc-meltewitz.de/event/deutsche-enduromeisterschaft-2-adac-sprintenduro-meltewitz/
LOCATION:Tor zum SHC Gelände\, 9V8P+Q94 Lossatal\, Lossatal OT Meltewitz\, 04808\, Germany
CATEGORIES:Enduro
ATTACH;FMTTYPE=image/jpeg:https://shc-meltewitz.de/wp-content/uploads/2026/04/Meltewitz-N_2026-scaled.jpg
END:VEVENT
BEGIN:VEVENT
DTSTART;VALUE=DATE:20260509
DTEND;VALUE=DATE:20260511
DTSTAMP:20260425T221446
CREATED:20260415T100519Z
LAST-MODIFIED:20260415T100519Z
UID:688-1778284800-1778457599@shc-meltewitz.de
SUMMARY:ADAC Enduro Jugendcup Ost
DESCRIPTION:
URL:https://shc-meltewitz.de/event/adac-enduro-jugendcup-ost/
CATEGORIES:Enduro
ATTACH;FMTTYPE=image/jpeg:https://shc-meltewitz.de/wp-content/uploads/2026/04/neu_EJC-Terminplakt_Meltewitz_2026-scaled.jpg
END:VEVENT
BEGIN:VEVENT
DTSTART;VALUE=DATE:20260514
DTEND;VALUE=DATE:20260515
DTSTAMP:20260425T221446
CREATED:20260304T111657Z
LAST-MODIFIED:20260304T111657Z
UID:261-1778716800-1778803199@shc-meltewitz.de
SUMMARY:Himmelfahrtstraining - Enduro
DESCRIPTION:
URL:https://shc-meltewitz.de/event/himmelfahrtstraining-enduro/
LOCATION:Tor zum SHC Gelände\, 9V8P+Q94 Lossatal\, Lossatal OT Meltewitz\, 04808\, Germany
CATEGORIES:Enduro
END:VEVENT
BEGIN:VEVENT
DTSTART;VALUE=DATE:20260628
DTEND;VALUE=DATE:20260629
DTSTAMP:20260425T221446
CREATED:20260304T111751Z
LAST-MODIFIED:20260413T170500Z
UID:263-1782604800-1782691199@shc-meltewitz.de
SUMMARY:Ostdeutsche Trialmeisterschaft  2. Meltewitzer ADAC Motorradtrial  ​
DESCRIPTION:  \nOstdeutsche Trialmeisterschaft   link
URL:https://shc-meltewitz.de/event/ostdeutsche-trialmeisterschaft-2-meltewitzer-adac-motorradtrial/
LOCATION:Tor zum SHC Gelände\, 9V8P+Q94 Lossatal\, Lossatal OT Meltewitz\, 04808\, Germany
CATEGORIES:Trial
END:VEVENT
BEGIN:VEVENT
DTSTART;VALUE=DATE:20260913
DTEND;VALUE=DATE:20260914
DTSTAMP:20260425T221446
CREATED:20260304T111836Z
LAST-MODIFIED:20260304T111837Z
UID:265-1789257600-1789343999@shc-meltewitz.de
SUMMARY:Hardenduro Series Germany  ADAC Melz Exdräm XIIV
DESCRIPTION:
URL:https://shc-meltewitz.de/event/hardenduro-series-germany-adac-melz-exdraem-xiiv/
LOCATION:Tor zum SHC Gelände\, 9V8P+Q94 Lossatal\, Lossatal OT Meltewitz\, 04808\, Germany
CATEGORIES:Enduro
END:VEVENT
BEGIN:VEVENT
DTSTART;TZID=UTC:20261115T093000
DTEND;TZID=UTC:20261115T130000
DTSTAMP:20260425T221446
CREATED:20260303T105619Z
LAST-MODIFIED:20260310T085639Z
UID:184-1794735000-1794747600@shc-meltewitz.de
SUMMARY:4. StoneBreakTrail 2026
DESCRIPTION:www.stonebreaktrail.de – Jetzt anmelden!!!
URL:https://shc-meltewitz.de/event/4-stonebreaktrail-2026/
LOCATION:Tor zum SHC Gelände\, 9V8P+Q94 Lossatal\, Lossatal OT Meltewitz\, 04808\, Germany
CATEGORIES:Laufsport
ATTACH;FMTTYPE=image/png:https://shc-meltewitz.de/wp-content/uploads/2026/03/sbt-retina.png
END:VEVENT
BEGIN:VEVENT
DTSTART;TZID=UTC:20261212T080000
DTEND;TZID=UTC:20261212T170000
DTSTAMP:20260425T221446
CREATED:20260304T111924Z
LAST-MODIFIED:20260304T111924Z
UID:267-1797062400-1797094800@shc-meltewitz.de
SUMMARY:Nikolaustraining - Enduro  ​
DESCRIPTION:
URL:https://shc-meltewitz.de/event/nikolaustraining-enduro/
LOCATION:Tor zum SHC Gelände\, 9V8P+Q94 Lossatal\, Lossatal OT Meltewitz\, 04808\, Germany
CATEGORIES:Enduro
END:VEVENT
BEGIN:VEVENT
DTSTART;VALUE=DATE:20261231
DTEND;VALUE=DATE:20270101
DTSTAMP:20260425T221446
CREATED:20260304T112001Z
LAST-MODIFIED:20260304T112001Z
UID:270-1798675200-1798761599@shc-meltewitz.de
SUMMARY:Silvestertraining - Enduro
DESCRIPTION:
URL:https://shc-meltewitz.de/event/silvestertraining-enduro/
LOCATION:Tor zum SHC Gelände\, 9V8P+Q94 Lossatal\, Lossatal OT Meltewitz\, 04808\, Germany
CATEGORIES:Enduro,MTB
END:VEVENT
END:VCALENDAR